BEGIN:VCALENDAR
VERSION:2.0
PRODID:-//Bürgerschützenverein „St. Johannes“ Drensteinfurt 1593 e.V. - ECPv6.15.20//NONSGML v1.0//EN
CALSCALE:GREGORIAN
METHOD:PUBLISH
X-ORIGINAL-URL:https://buerger-drensteinfurt.de
X-WR-CALDESC:Veranstaltungen für Bürgerschützenverein „St. Johannes“ Drensteinfurt 1593 e.V.
REFRESH-INTERVAL;VALUE=DURATION:PT1H
X-Robots-Tag:noindex
X-PUBLISHED-TTL:PT1H
BEGIN:VTIMEZONE
TZID:Europe/Berlin
BEGIN:DAYLIGHT
TZOFFSETFROM:+0100
TZOFFSETTO:+0200
TZNAME:CEST
DTSTART:20250330T010000
END:DAYLIGHT
BEGIN:STANDARD
TZOFFSETFROM:+0200
TZOFFSETTO:+0100
TZNAME:CET
DTSTART:20251026T010000
END:STANDARD
BEGIN:DAYLIGHT
TZOFFSETFROM:+0100
TZOFFSETTO:+0200
TZNAME:CEST
DTSTART:20260329T010000
END:DAYLIGHT
BEGIN:STANDARD
TZOFFSETFROM:+0200
TZOFFSETTO:+0100
TZNAME:CET
DTSTART:20261025T010000
END:STANDARD
BEGIN:DAYLIGHT
TZOFFSETFROM:+0100
TZOFFSETTO:+0200
TZNAME:CEST
DTSTART:20270328T010000
END:DAYLIGHT
BEGIN:STANDARD
TZOFFSETFROM:+0200
TZOFFSETTO:+0100
TZNAME:CET
DTSTART:20271031T010000
END:STANDARD
END:VTIMEZONE
BEGIN:VEVENT
DTSTART;TZID=Europe/Berlin:20260619T170000
DTEND;TZID=Europe/Berlin:20260621T190000
DTSTAMP:20260421T161135
CREATED:20250619T152456Z
LAST-MODIFIED:20250619T152819Z
UID:14280-1781888400-1782068400@buerger-drensteinfurt.de
SUMMARY:Schützenfest 2026
DESCRIPTION:Weitere Informationen folgen nach der Mitgliederversammlung im Mai 2026!
URL:https://buerger-drensteinfurt.de/event/schuetzenfest-2026/
LOCATION:Schlosspark\, Schlosspark\, Drensteinfurt\, 48317
CATEGORIES:Schützenfest
END:VEVENT
END:VCALENDAR